BEGIN:VCALENDAR
VERSION:2.0
PRODID:-//Keokuk Christian Academy - ECPv6.15.17.1//NONSGML v1.0//EN
CALSCALE:GREGORIAN
METHOD:PUBLISH
X-WR-CALNAME:Keokuk Christian Academy
X-ORIGINAL-URL:https://keokukca.com
X-WR-CALDESC:Events for Keokuk Christian Academy
REFRESH-INTERVAL;VALUE=DURATION:PT1H
X-Robots-Tag:noindex
X-PUBLISHED-TTL:PT1H
BEGIN:VTIMEZONE
TZID:America/Chicago
BEGIN:DAYLIGHT
TZOFFSETFROM:-0600
TZOFFSETTO:-0500
TZNAME:CDT
DTSTART:20240310T080000
END:DAYLIGHT
BEGIN:STANDARD
TZOFFSETFROM:-0500
TZOFFSETTO:-0600
TZNAME:CST
DTSTART:20241103T070000
END:STANDARD
BEGIN:DAYLIGHT
TZOFFSETFROM:-0600
TZOFFSETTO:-0500
TZNAME:CDT
DTSTART:20250309T080000
END:DAYLIGHT
BEGIN:STANDARD
TZOFFSETFROM:-0500
TZOFFSETTO:-0600
TZNAME:CST
DTSTART:20251102T070000
END:STANDARD
BEGIN:DAYLIGHT
TZOFFSETFROM:-0600
TZOFFSETTO:-0500
TZNAME:CDT
DTSTART:20260308T080000
END:DAYLIGHT
BEGIN:STANDARD
TZOFFSETFROM:-0500
TZOFFSETTO:-0600
TZNAME:CST
DTSTART:20261101T070000
END:STANDARD
END:VTIMEZONE
BEGIN:VEVENT
DTSTART;VALUE=DATE:20250903
DTEND;VALUE=DATE:20250904
DTSTAMP:20260423T164907
CREATED:20250723T024748Z
LAST-MODIFIED:20250903T233246Z
UID:10000179-1756857600-1756943999@keokukca.com
SUMMARY:First Day of Preschool 3 year olds
DESCRIPTION:
URL:https://keokukca.com/event/first-day-of-preschool-3-year-olds/
END:VEVENT
BEGIN:VEVENT
DTSTART;TZID=America/Chicago:20250903T084500
DTEND;TZID=America/Chicago:20250903T093000
DTSTAMP:20260423T164907
CREATED:20250303T201751Z
LAST-MODIFIED:20250903T141821Z
UID:10000096-1756889100-1756891800@keokukca.com
SUMMARY:Chapel Day
DESCRIPTION:
URL:https://keokukca.com/event/chapel-day-27/
END:VEVENT
END:VCALENDAR