BEGIN:VCALENDAR
VERSION:2.0
PRODID:-//Keokuk Christian Academy - ECPv6.15.17.1//NONSGML v1.0//EN
CALSCALE:GREGORIAN
METHOD:PUBLISH
X-ORIGINAL-URL:https://keokukca.com
X-WR-CALDESC:Events for Keokuk Christian Academy
REFRESH-INTERVAL;VALUE=DURATION:PT1H
X-Robots-Tag:noindex
X-PUBLISHED-TTL:PT1H
BEGIN:VTIMEZONE
TZID:America/Chicago
BEGIN:DAYLIGHT
TZOFFSETFROM:-0600
TZOFFSETTO:-0500
TZNAME:CDT
DTSTART:20240310T080000
END:DAYLIGHT
BEGIN:STANDARD
TZOFFSETFROM:-0500
TZOFFSETTO:-0600
TZNAME:CST
DTSTART:20241103T070000
END:STANDARD
BEGIN:DAYLIGHT
TZOFFSETFROM:-0600
TZOFFSETTO:-0500
TZNAME:CDT
DTSTART:20250309T080000
END:DAYLIGHT
BEGIN:STANDARD
TZOFFSETFROM:-0500
TZOFFSETTO:-0600
TZNAME:CST
DTSTART:20251102T070000
END:STANDARD
BEGIN:DAYLIGHT
TZOFFSETFROM:-0600
TZOFFSETTO:-0500
TZNAME:CDT
DTSTART:20260308T080000
END:DAYLIGHT
BEGIN:STANDARD
TZOFFSETFROM:-0500
TZOFFSETTO:-0600
TZNAME:CST
DTSTART:20261101T070000
END:STANDARD
END:VTIMEZONE
BEGIN:VEVENT
DTSTART;TZID=America/Chicago:20250910T083000
DTEND;TZID=America/Chicago:20250910T090000
DTSTAMP:20260423T164943
CREATED:20250909T171952Z
LAST-MODIFIED:20250910T133324Z
UID:10000193-1757493000-1757494800@keokukca.com
SUMMARY:Chapel Day
DESCRIPTION:
URL:https://keokukca.com/event/chapel-day-76/
END:VEVENT
BEGIN:VEVENT
DTSTART;TZID=America/Chicago:20250910T083000
DTEND;TZID=America/Chicago:20250910T091500
DTSTAMP:20260423T164943
CREATED:20250909T171952Z
LAST-MODIFIED:20250910T140241Z
UID:10000194-1757493000-1757495700@keokukca.com
SUMMARY:Grandparents Day Chapel
DESCRIPTION:
URL:https://keokukca.com/event/grandparents-day-chapel/
END:VEVENT
BEGIN:VEVENT
DTSTART;TZID=America/Chicago:20250910T084500
DTEND;TZID=America/Chicago:20250910T093000
DTSTAMP:20260423T164943
CREATED:20250303T201751Z
LAST-MODIFIED:20250909T164917Z
UID:10000097-1757493900-1757496600@keokukca.com
SUMMARY:Chapel Day
DESCRIPTION:
URL:https://keokukca.com/event/chapel-day-28/
END:VEVENT
END:VCALENDAR