BEGIN:VCALENDAR
VERSION:2.0
PRODID:-//Keokuk Christian Academy - ECPv6.15.17.1//NONSGML v1.0//EN
CALSCALE:GREGORIAN
METHOD:PUBLISH
X-WR-CALNAME:Keokuk Christian Academy
X-ORIGINAL-URL:https://keokukca.com
X-WR-CALDESC:Events for Keokuk Christian Academy
REFRESH-INTERVAL;VALUE=DURATION:PT1H
X-Robots-Tag:noindex
X-PUBLISHED-TTL:PT1H
BEGIN:VTIMEZONE
TZID:America/Chicago
BEGIN:DAYLIGHT
TZOFFSETFROM:-0600
TZOFFSETTO:-0500
TZNAME:CDT
DTSTART:20240310T080000
END:DAYLIGHT
BEGIN:STANDARD
TZOFFSETFROM:-0500
TZOFFSETTO:-0600
TZNAME:CST
DTSTART:20241103T070000
END:STANDARD
BEGIN:DAYLIGHT
TZOFFSETFROM:-0600
TZOFFSETTO:-0500
TZNAME:CDT
DTSTART:20250309T080000
END:DAYLIGHT
BEGIN:STANDARD
TZOFFSETFROM:-0500
TZOFFSETTO:-0600
TZNAME:CST
DTSTART:20251102T070000
END:STANDARD
BEGIN:DAYLIGHT
TZOFFSETFROM:-0600
TZOFFSETTO:-0500
TZNAME:CDT
DTSTART:20260308T080000
END:DAYLIGHT
BEGIN:STANDARD
TZOFFSETFROM:-0500
TZOFFSETTO:-0600
TZNAME:CST
DTSTART:20261101T070000
END:STANDARD
END:VTIMEZONE
BEGIN:VEVENT
DTSTART;TZID=America/Chicago:20251001T083000
DTEND;TZID=America/Chicago:20251001T090000
DTSTAMP:20260423T165238
CREATED:20250909T171953Z
LAST-MODIFIED:20251001T134736Z
UID:10000198-1759307400-1759309200@keokukca.com
SUMMARY:Chapel Day
DESCRIPTION:
URL:https://keokukca.com/event/chapel-day-79/
END:VEVENT
BEGIN:VEVENT
DTSTART;TZID=America/Chicago:20251001T084500
DTEND;TZID=America/Chicago:20251001T093000
DTSTAMP:20260423T165238
CREATED:20250303T201751Z
LAST-MODIFIED:20250909T164917Z
UID:10000100-1759308300-1759311000@keokukca.com
SUMMARY:Chapel Day
DESCRIPTION:
URL:https://keokukca.com/event/chapel-day-31/
END:VEVENT
END:VCALENDAR