BEGIN:VCALENDAR
VERSION:2.0
PRODID:-//Keokuk Christian Academy - ECPv6.15.17.1//NONSGML v1.0//EN
CALSCALE:GREGORIAN
METHOD:PUBLISH
X-WR-CALNAME:Keokuk Christian Academy
X-ORIGINAL-URL:https://keokukca.com
X-WR-CALDESC:Events for Keokuk Christian Academy
REFRESH-INTERVAL;VALUE=DURATION:PT1H
X-Robots-Tag:noindex
X-PUBLISHED-TTL:PT1H
BEGIN:VTIMEZONE
TZID:America/Chicago
BEGIN:DAYLIGHT
TZOFFSETFROM:-0600
TZOFFSETTO:-0500
TZNAME:CDT
DTSTART:20240310T080000
END:DAYLIGHT
BEGIN:STANDARD
TZOFFSETFROM:-0500
TZOFFSETTO:-0600
TZNAME:CST
DTSTART:20241103T070000
END:STANDARD
BEGIN:DAYLIGHT
TZOFFSETFROM:-0600
TZOFFSETTO:-0500
TZNAME:CDT
DTSTART:20250309T080000
END:DAYLIGHT
BEGIN:STANDARD
TZOFFSETFROM:-0500
TZOFFSETTO:-0600
TZNAME:CST
DTSTART:20251102T070000
END:STANDARD
BEGIN:DAYLIGHT
TZOFFSETFROM:-0600
TZOFFSETTO:-0500
TZNAME:CDT
DTSTART:20260308T080000
END:DAYLIGHT
BEGIN:STANDARD
TZOFFSETFROM:-0500
TZOFFSETTO:-0600
TZNAME:CST
DTSTART:20261101T070000
END:STANDARD
END:VTIMEZONE
BEGIN:VEVENT
DTSTART;VALUE=DATE:20251224
DTEND;VALUE=DATE:20251225
DTSTAMP:20260423T214437
CREATED:20250723T021745Z
LAST-MODIFIED:20251224T233319Z
UID:10000173-1766534400-1766620799@keokukca.com
SUMMARY:No School: Christmas Break
DESCRIPTION:
URL:https://keokukca.com/event/no-school-christmas-break/
END:VEVENT
BEGIN:VEVENT
DTSTART;TZID=America/Chicago:20251224T083000
DTEND;TZID=America/Chicago:20251224T090000
DTSTAMP:20260423T214437
CREATED:20250909T171954Z
LAST-MODIFIED:20251224T144735Z
UID:10000210-1766565000-1766566800@keokukca.com
SUMMARY:Chapel Day
DESCRIPTION:
URL:https://keokukca.com/event/chapel-day-91/
END:VEVENT
BEGIN:VEVENT
DTSTART;TZID=America/Chicago:20251224T084500
DTEND;TZID=America/Chicago:20251224T093000
DTSTAMP:20260423T214437
CREATED:20250303T201752Z
LAST-MODIFIED:20250723T014832Z
UID:10000112-1766565900-1766568600@keokukca.com
SUMMARY:Chapel Day
DESCRIPTION:
URL:https://keokukca.com/event/chapel-day-43/
END:VEVENT
END:VCALENDAR