BEGIN:VCALENDAR
VERSION:2.0
PRODID:-//Keokuk Christian Academy - ECPv6.15.17.1//NONSGML v1.0//EN
CALSCALE:GREGORIAN
METHOD:PUBLISH
X-WR-CALNAME:Keokuk Christian Academy
X-ORIGINAL-URL:https://keokukca.com
X-WR-CALDESC:Events for Keokuk Christian Academy
REFRESH-INTERVAL;VALUE=DURATION:PT1H
X-Robots-Tag:noindex
X-PUBLISHED-TTL:PT1H
BEGIN:VTIMEZONE
TZID:America/Chicago
BEGIN:DAYLIGHT
TZOFFSETFROM:-0600
TZOFFSETTO:-0500
TZNAME:CDT
DTSTART:20230312T080000
END:DAYLIGHT
BEGIN:STANDARD
TZOFFSETFROM:-0500
TZOFFSETTO:-0600
TZNAME:CST
DTSTART:20231105T070000
END:STANDARD
BEGIN:DAYLIGHT
TZOFFSETFROM:-0600
TZOFFSETTO:-0500
TZNAME:CDT
DTSTART:20240310T080000
END:DAYLIGHT
BEGIN:STANDARD
TZOFFSETFROM:-0500
TZOFFSETTO:-0600
TZNAME:CST
DTSTART:20241103T070000
END:STANDARD
BEGIN:DAYLIGHT
TZOFFSETFROM:-0600
TZOFFSETTO:-0500
TZNAME:CDT
DTSTART:20250309T080000
END:DAYLIGHT
BEGIN:STANDARD
TZOFFSETFROM:-0500
TZOFFSETTO:-0600
TZNAME:CST
DTSTART:20251102T070000
END:STANDARD
END:VTIMEZONE
BEGIN:VEVENT
DTSTART;TZID=America/Chicago:20240501T113000
DTEND;TZID=America/Chicago:20240501T115500
DTSTAMP:20260420T000238
CREATED:20240429T030741Z
LAST-MODIFIED:20240501T165157Z
UID:10000028-1714563000-1714564500@keokukca.com
SUMMARY:Lunch - Cheeseburger\, Chips\, Fruit
DESCRIPTION:
URL:https://keokukca.com/event/busy-4/
END:VEVENT
BEGIN:VEVENT
DTSTART;TZID=America/Chicago:20240430T113000
DTEND;TZID=America/Chicago:20240430T115500
DTSTAMP:20260420T000238
CREATED:20240429T030741Z
LAST-MODIFIED:20240429T030741Z
UID:10000026-1714476600-1714478100@keokukca.com
SUMMARY:Busy
DESCRIPTION:
URL:https://keokukca.com/event/busy-2/
END:VEVENT
BEGIN:VEVENT
DTSTART;TZID=America/Chicago:20240430T083000
DTEND;TZID=America/Chicago:20240430T150000
DTSTAMP:20260420T000238
CREATED:20240429T030741Z
LAST-MODIFIED:20240429T030741Z
UID:10000027-1714465800-1714489200@keokukca.com
SUMMARY:Busy
DESCRIPTION:
URL:https://keokukca.com/event/busy-3/
END:VEVENT
BEGIN:VEVENT
DTSTART;TZID=America/Chicago:20240429T113000
DTEND;TZID=America/Chicago:20240429T115500
DTSTAMP:20260420T000238
CREATED:20240429T030741Z
LAST-MODIFIED:20240429T030741Z
UID:10000025-1714390200-1714391700@keokukca.com
SUMMARY:Busy
DESCRIPTION:
URL:https://keokukca.com/event/busy/
END:VEVENT
END:VCALENDAR