BEGIN:VCALENDAR
VERSION:2.0
PRODID:-//Keokuk Christian Academy - ECPv6.15.17.1//NONSGML v1.0//EN
CALSCALE:GREGORIAN
METHOD:PUBLISH
X-WR-CALNAME:Keokuk Christian Academy
X-ORIGINAL-URL:https://keokukca.com
X-WR-CALDESC:Events for Keokuk Christian Academy
REFRESH-INTERVAL;VALUE=DURATION:PT1H
X-Robots-Tag:noindex
X-PUBLISHED-TTL:PT1H
BEGIN:VTIMEZONE
TZID:America/Chicago
BEGIN:DAYLIGHT
TZOFFSETFROM:-0600
TZOFFSETTO:-0500
TZNAME:CDT
DTSTART:20240310T080000
END:DAYLIGHT
BEGIN:STANDARD
TZOFFSETFROM:-0500
TZOFFSETTO:-0600
TZNAME:CST
DTSTART:20241103T070000
END:STANDARD
BEGIN:DAYLIGHT
TZOFFSETFROM:-0600
TZOFFSETTO:-0500
TZNAME:CDT
DTSTART:20250309T080000
END:DAYLIGHT
BEGIN:STANDARD
TZOFFSETFROM:-0500
TZOFFSETTO:-0600
TZNAME:CST
DTSTART:20251102T070000
END:STANDARD
BEGIN:DAYLIGHT
TZOFFSETFROM:-0600
TZOFFSETTO:-0500
TZNAME:CDT
DTSTART:20260308T080000
END:DAYLIGHT
BEGIN:STANDARD
TZOFFSETFROM:-0500
TZOFFSETTO:-0600
TZNAME:CST
DTSTART:20261101T070000
END:STANDARD
END:VTIMEZONE
BEGIN:VEVENT
DTSTART;TZID=America/Chicago:20250813T084500
DTEND;TZID=America/Chicago:20250813T093000
DTSTAMP:20260420T024641
CREATED:20250303T201751Z
LAST-MODIFIED:20250308T101729Z
UID:10000093-1755074700-1755077400@keokukca.com
SUMMARY:Chapel Day
DESCRIPTION:
URL:https://keokukca.com/event/chapel-day-24/
END:VEVENT
BEGIN:VEVENT
DTSTART;TZID=America/Chicago:20250806T084500
DTEND;TZID=America/Chicago:20250806T093000
DTSTAMP:20260420T024641
CREATED:20250303T201751Z
LAST-MODIFIED:20250308T101729Z
UID:10000092-1754469900-1754472600@keokukca.com
SUMMARY:Chapel Day
DESCRIPTION:
URL:https://keokukca.com/event/chapel-day-23/
END:VEVENT
BEGIN:VEVENT
DTSTART;TZID=America/Chicago:20250805T070000
DTEND;TZID=America/Chicago:20250805T190000
DTSTAMP:20260420T024641
CREATED:20250615T024737Z
LAST-MODIFIED:20250805T234753Z
UID:10000159-1754377200-1754420400@keokukca.com
SUMMARY:Registration Day
DESCRIPTION:
URL:https://keokukca.com/event/registration-day/
END:VEVENT
BEGIN:VEVENT
DTSTART;TZID=America/Chicago:20250730T084500
DTEND;TZID=America/Chicago:20250730T093000
DTSTAMP:20260420T024641
CREATED:20250303T201750Z
LAST-MODIFIED:20250308T101729Z
UID:10000091-1753865100-1753867800@keokukca.com
SUMMARY:Chapel Day
DESCRIPTION:
URL:https://keokukca.com/event/chapel-day-22/
END:VEVENT
BEGIN:VEVENT
DTSTART;TZID=America/Chicago:20250723T084500
DTEND;TZID=America/Chicago:20250723T093000
DTSTAMP:20260420T024641
CREATED:20250303T201750Z
LAST-MODIFIED:20250308T101728Z
UID:10000090-1753260300-1753263000@keokukca.com
SUMMARY:Chapel Day
DESCRIPTION:
URL:https://keokukca.com/event/chapel-day-21/
END:VEVENT
BEGIN:VEVENT
DTSTART;TZID=America/Chicago:20250716T084500
DTEND;TZID=America/Chicago:20250716T093000
DTSTAMP:20260420T024641
CREATED:20250303T201750Z
LAST-MODIFIED:20250308T101728Z
UID:10000089-1752655500-1752658200@keokukca.com
SUMMARY:Chapel Day
DESCRIPTION:
URL:https://keokukca.com/event/chapel-day-20/
END:VEVENT
BEGIN:VEVENT
DTSTART;TZID=America/Chicago:20250712T080000
DTEND;TZID=America/Chicago:20250712T140000
DTSTAMP:20260420T024641
CREATED:20250615T024737Z
LAST-MODIFIED:20250712T183234Z
UID:10000158-1752307200-1752328800@keokukca.com
SUMMARY:KCA Yardsale
DESCRIPTION:
URL:https://keokukca.com/event/kca-yardsale/
END:VEVENT
BEGIN:VEVENT
DTSTART;TZID=America/Chicago:20250711T080000
DTEND;TZID=America/Chicago:20250711T170000
DTSTAMP:20260420T024641
CREATED:20250615T024737Z
LAST-MODIFIED:20250711T213428Z
UID:10000157-1752220800-1752253200@keokukca.com
SUMMARY:KCA Yardsale Work Day
DESCRIPTION:
URL:https://keokukca.com/event/kca-yardsale-work-day-5/
END:VEVENT
BEGIN:VEVENT
DTSTART;TZID=America/Chicago:20250710T090000
DTEND;TZID=America/Chicago:20250710T170000
DTSTAMP:20260420T024641
CREATED:20250615T024737Z
LAST-MODIFIED:20250710T213321Z
UID:10000156-1752138000-1752166800@keokukca.com
SUMMARY:KCA Yardsale Work Day
DESCRIPTION:
URL:https://keokukca.com/event/kca-yardsale-work-day-4/
END:VEVENT
BEGIN:VEVENT
DTSTART;TZID=America/Chicago:20250709T090000
DTEND;TZID=America/Chicago:20250709T170000
DTSTAMP:20260420T024641
CREATED:20250615T024737Z
LAST-MODIFIED:20250709T213248Z
UID:10000155-1752051600-1752080400@keokukca.com
SUMMARY:KCA Yardsale Work Day
DESCRIPTION:
URL:https://keokukca.com/event/kca-yardsale-work-day-3/
END:VEVENT
BEGIN:VEVENT
DTSTART;TZID=America/Chicago:20250709T084500
DTEND;TZID=America/Chicago:20250709T093000
DTSTAMP:20260420T024641
CREATED:20250303T201750Z
LAST-MODIFIED:20250308T101728Z
UID:10000088-1752050700-1752053400@keokukca.com
SUMMARY:Chapel Day
DESCRIPTION:
URL:https://keokukca.com/event/chapel-day-19/
END:VEVENT
BEGIN:VEVENT
DTSTART;TZID=America/Chicago:20250708T090000
DTEND;TZID=America/Chicago:20250708T170000
DTSTAMP:20260420T024641
CREATED:20250615T024737Z
LAST-MODIFIED:20250708T214728Z
UID:10000154-1751965200-1751994000@keokukca.com
SUMMARY:KCA Yardsale Work Day
DESCRIPTION:
URL:https://keokukca.com/event/kca-yardsale-work-day-2/
END:VEVENT
BEGIN:VEVENT
DTSTART;TZID=America/Chicago:20250707T090000
DTEND;TZID=America/Chicago:20250707T170000
DTSTAMP:20260420T024641
CREATED:20250615T024737Z
LAST-MODIFIED:20250707T214810Z
UID:10000153-1751878800-1751907600@keokukca.com
SUMMARY:KCA Yardsale Work Day
DESCRIPTION:
URL:https://keokukca.com/event/kca-yardsale-work-day/
END:VEVENT
BEGIN:VEVENT
DTSTART;TZID=America/Chicago:20250702T084500
DTEND;TZID=America/Chicago:20250702T093000
DTSTAMP:20260420T024641
CREATED:20250303T201750Z
LAST-MODIFIED:20250308T101728Z
UID:10000087-1751445900-1751448600@keokukca.com
SUMMARY:Chapel Day
DESCRIPTION:
URL:https://keokukca.com/event/chapel-day-18/
END:VEVENT
BEGIN:VEVENT
DTSTART;TZID=America/Chicago:20250630T235900
DTEND;TZID=America/Chicago:20250701T005900
DTSTAMP:20260420T024641
CREATED:20250615T024737Z
LAST-MODIFIED:20250701T051822Z
UID:10000152-1751327940-1751331540@keokukca.com
SUMMARY:ESA Closes
DESCRIPTION:
URL:https://keokukca.com/event/esa-closes/
END:VEVENT
BEGIN:VEVENT
DTSTART;TZID=America/Chicago:20250625T084500
DTEND;TZID=America/Chicago:20250625T093000
DTSTAMP:20260420T024641
CREATED:20250303T201750Z
LAST-MODIFIED:20250308T101728Z
UID:10000086-1750841100-1750843800@keokukca.com
SUMMARY:Chapel Day
DESCRIPTION:
URL:https://keokukca.com/event/chapel-day-17/
END:VEVENT
BEGIN:VEVENT
DTSTART;TZID=America/Chicago:20250618T084500
DTEND;TZID=America/Chicago:20250618T093000
DTSTAMP:20260420T024641
CREATED:20250303T201750Z
LAST-MODIFIED:20250308T101728Z
UID:10000085-1750236300-1750239000@keokukca.com
SUMMARY:Chapel Day
DESCRIPTION:
URL:https://keokukca.com/event/chapel-day-16/
END:VEVENT
BEGIN:VEVENT
DTSTART;TZID=America/Chicago:20250611T084500
DTEND;TZID=America/Chicago:20250611T093000
DTSTAMP:20260420T024641
CREATED:20250303T201750Z
LAST-MODIFIED:20250308T101728Z
UID:10000084-1749631500-1749634200@keokukca.com
SUMMARY:Chapel Day
DESCRIPTION:
URL:https://keokukca.com/event/chapel-day-15/
END:VEVENT
BEGIN:VEVENT
DTSTART;TZID=America/Chicago:20250604T084500
DTEND;TZID=America/Chicago:20250604T093000
DTSTAMP:20260420T024641
CREATED:20250303T201750Z
LAST-MODIFIED:20250308T101728Z
UID:10000083-1749026700-1749029400@keokukca.com
SUMMARY:Chapel Day
DESCRIPTION:
URL:https://keokukca.com/event/chapel-day-14/
END:VEVENT
BEGIN:VEVENT
DTSTART;TZID=America/Chicago:20250528T084500
DTEND;TZID=America/Chicago:20250528T093000
DTSTAMP:20260420T024641
CREATED:20250303T201750Z
LAST-MODIFIED:20250308T101728Z
UID:10000082-1748421900-1748424600@keokukca.com
SUMMARY:Chapel Day
DESCRIPTION:
URL:https://keokukca.com/event/chapel-day-13/
END:VEVENT
BEGIN:VEVENT
DTSTART;TZID=America/Chicago:20250521T084500
DTEND;TZID=America/Chicago:20250521T093000
DTSTAMP:20260420T024641
CREATED:20250303T201750Z
LAST-MODIFIED:20250521T140244Z
UID:10000081-1747817100-1747819800@keokukca.com
SUMMARY:Chapel Day
DESCRIPTION:
URL:https://keokukca.com/event/chapel-day-12/
END:VEVENT
BEGIN:VEVENT
DTSTART;TZID=America/Chicago:20250514T084500
DTEND;TZID=America/Chicago:20250514T093000
DTSTAMP:20260420T024641
CREATED:20250303T201750Z
LAST-MODIFIED:20250514T140531Z
UID:10000080-1747212300-1747215000@keokukca.com
SUMMARY:Chapel Day
DESCRIPTION:
URL:https://keokukca.com/event/chapel-day-11/
END:VEVENT
BEGIN:VEVENT
DTSTART;TZID=America/Chicago:20250507T084500
DTEND;TZID=America/Chicago:20250507T093000
DTSTAMP:20260420T024641
CREATED:20250303T201750Z
LAST-MODIFIED:20250507T141816Z
UID:10000079-1746607500-1746610200@keokukca.com
SUMMARY:Chapel Day
DESCRIPTION:
URL:https://keokukca.com/event/chapel-day-10/
END:VEVENT
BEGIN:VEVENT
DTSTART;VALUE=DATE:20250507
DTEND;VALUE=DATE:20250508
DTSTAMP:20260420T024641
CREATED:20250328T164738Z
LAST-MODIFIED:20250507T233238Z
UID:10000142-1746576000-1746662399@keokukca.com
SUMMARY:5-7th Grade Old Threshers
DESCRIPTION:
URL:https://keokukca.com/event/5-7th-grade-old-threshers/
END:VEVENT
BEGIN:VEVENT
DTSTART;TZID=America/Chicago:20250430T084500
DTEND;TZID=America/Chicago:20250430T093000
DTSTAMP:20260420T024641
CREATED:20250303T201750Z
LAST-MODIFIED:20250430T071021Z
UID:10000078-1746002700-1746005400@keokukca.com
SUMMARY:Chapel Day
DESCRIPTION:
URL:https://keokukca.com/event/chapel-day-9/
END:VEVENT
BEGIN:VEVENT
DTSTART;TZID=America/Chicago:20250429T173000
DTEND;TZID=America/Chicago:20250429T183000
DTSTAMP:20260420T024641
CREATED:20250328T164738Z
LAST-MODIFIED:20250429T231844Z
UID:10000141-1745947800-1745951400@keokukca.com
SUMMARY:School Board Meeting
DESCRIPTION:
URL:https://keokukca.com/event/school-board-meeting/
END:VEVENT
BEGIN:VEVENT
DTSTART;VALUE=DATE:20250425
DTEND;VALUE=DATE:20250426
DTSTAMP:20260420T024641
CREATED:20250328T164738Z
LAST-MODIFIED:20250425T233257Z
UID:10000140-1745539200-1745625599@keokukca.com
SUMMARY:Jr-Sr High Service Day to Love Packages
DESCRIPTION:
URL:https://keokukca.com/event/jr-sr-high-service-day-to-love-packages/
END:VEVENT
BEGIN:VEVENT
DTSTART;TZID=America/Chicago:20250423T084500
DTEND;TZID=America/Chicago:20250423T093000
DTSTAMP:20260420T024641
CREATED:20250303T201750Z
LAST-MODIFIED:20250423T141937Z
UID:10000077-1745397900-1745400600@keokukca.com
SUMMARY:Chapel Day
DESCRIPTION:
URL:https://keokukca.com/event/chapel-day-8/
END:VEVENT
BEGIN:VEVENT
DTSTART;VALUE=DATE:20250422
DTEND;VALUE=DATE:20250423
DTSTAMP:20260420T024641
CREATED:20250328T164738Z
LAST-MODIFIED:20250422T234729Z
UID:10000139-1745280000-1745366399@keokukca.com
SUMMARY:Last Day of Candy Bar Sales for Prizes
DESCRIPTION:
URL:https://keokukca.com/event/last-day-of-candy-bar-sales-for-prizes/
END:VEVENT
BEGIN:VEVENT
DTSTART;VALUE=DATE:20250418
DTEND;VALUE=DATE:20250422
DTSTAMP:20260420T024641
CREATED:20250303T205905Z
LAST-MODIFIED:20250304T021152Z
UID:10000119-1744934400-1745279999@keokukca.com
SUMMARY:Easter Break
DESCRIPTION:KCA students will not have classes on Good Friday\, April 18 or Monday\, April 21 as we celebrate the Easter holiday. Classes will resume Tuesday\, April 22 at 8:30am
URL:https://keokukca.com/event/easter-break/
LOCATION:Keokuk Christian Academy\, 1578 Hilton Rd\, Keokuk\, IA\, 52632-3622\, United States
ATTACH;FMTTYPE=image/png:https://keokukca.com/wp-content/uploads/2025/03/KCA-Easter-break.png
ORGANIZER;CN="Keokuk Christian Academy":MAILTO:administrator@keokukca.com
END:VEVENT
END:VCALENDAR