BEGIN:VCALENDAR
VERSION:2.0
PRODID:-//Keokuk Christian Academy - ECPv6.15.17.1//NONSGML v1.0//EN
CALSCALE:GREGORIAN
METHOD:PUBLISH
X-ORIGINAL-URL:https://keokukca.com
X-WR-CALDESC:Events for Keokuk Christian Academy
REFRESH-INTERVAL;VALUE=DURATION:PT1H
X-Robots-Tag:noindex
X-PUBLISHED-TTL:PT1H
BEGIN:VTIMEZONE
TZID:America/Chicago
BEGIN:DAYLIGHT
TZOFFSETFROM:-0600
TZOFFSETTO:-0500
TZNAME:CDT
DTSTART:20240310T080000
END:DAYLIGHT
BEGIN:STANDARD
TZOFFSETFROM:-0500
TZOFFSETTO:-0600
TZNAME:CST
DTSTART:20241103T070000
END:STANDARD
BEGIN:DAYLIGHT
TZOFFSETFROM:-0600
TZOFFSETTO:-0500
TZNAME:CDT
DTSTART:20250309T080000
END:DAYLIGHT
BEGIN:STANDARD
TZOFFSETFROM:-0500
TZOFFSETTO:-0600
TZNAME:CST
DTSTART:20251102T070000
END:STANDARD
BEGIN:DAYLIGHT
TZOFFSETFROM:-0600
TZOFFSETTO:-0500
TZNAME:CDT
DTSTART:20260308T080000
END:DAYLIGHT
BEGIN:STANDARD
TZOFFSETFROM:-0500
TZOFFSETTO:-0600
TZNAME:CST
DTSTART:20261101T070000
END:STANDARD
END:VTIMEZONE
BEGIN:VEVENT
DTSTART;TZID=America/Chicago:20251001T083000
DTEND;TZID=America/Chicago:20251001T090000
DTSTAMP:20260423T164936
CREATED:20250909T171953Z
LAST-MODIFIED:20251001T134736Z
UID:10000198-1759307400-1759309200@keokukca.com
SUMMARY:Chapel Day
DESCRIPTION:
URL:https://keokukca.com/event/chapel-day-79/
END:VEVENT
BEGIN:VEVENT
DTSTART;TZID=America/Chicago:20251001T084500
DTEND;TZID=America/Chicago:20251001T093000
DTSTAMP:20260423T164936
CREATED:20250303T201751Z
LAST-MODIFIED:20250909T164917Z
UID:10000100-1759308300-1759311000@keokukca.com
SUMMARY:Chapel Day
DESCRIPTION:
URL:https://keokukca.com/event/chapel-day-31/
END:VEVENT
BEGIN:VEVENT
DTSTART;VALUE=DATE:20251003
DTEND;VALUE=DATE:20251004
DTSTAMP:20260423T164936
CREATED:20250723T021744Z
LAST-MODIFIED:20251003T234845Z
UID:10000164-1759449600-1759535999@keokukca.com
SUMMARY:End of 1st Six Weeks
DESCRIPTION:
URL:https://keokukca.com/event/end-of-1st-six-weeks/
END:VEVENT
BEGIN:VEVENT
DTSTART;TZID=America/Chicago:20251008T083000
DTEND;TZID=America/Chicago:20251008T090000
DTSTAMP:20260423T164936
CREATED:20250909T171953Z
LAST-MODIFIED:20251008T134902Z
UID:10000199-1759912200-1759914000@keokukca.com
SUMMARY:Chapel Day
DESCRIPTION:
URL:https://keokukca.com/event/chapel-day-80/
END:VEVENT
BEGIN:VEVENT
DTSTART;TZID=America/Chicago:20251008T084500
DTEND;TZID=America/Chicago:20251008T093000
DTSTAMP:20260423T164936
CREATED:20250303T201751Z
LAST-MODIFIED:20250909T164917Z
UID:10000101-1759913100-1759915800@keokukca.com
SUMMARY:Chapel Day
DESCRIPTION:
URL:https://keokukca.com/event/chapel-day-32/
END:VEVENT
BEGIN:VEVENT
DTSTART;VALUE=DATE:20251010
DTEND;VALUE=DATE:20251011
DTSTAMP:20260423T164936
CREATED:20250723T021744Z
LAST-MODIFIED:20251010T233238Z
UID:10000165-1760054400-1760140799@keokukca.com
SUMMARY:Parent Teacher Conferences--No School
DESCRIPTION:
URL:https://keokukca.com/event/parent-teacher-conferences-no-school/
END:VEVENT
BEGIN:VEVENT
DTSTART;TZID=America/Chicago:20251015T083000
DTEND;TZID=America/Chicago:20251015T090000
DTSTAMP:20260423T164936
CREATED:20250909T171953Z
LAST-MODIFIED:20251015T133337Z
UID:10000200-1760517000-1760518800@keokukca.com
SUMMARY:Chapel Day
DESCRIPTION:
URL:https://keokukca.com/event/chapel-day-81/
END:VEVENT
BEGIN:VEVENT
DTSTART;TZID=America/Chicago:20251015T084500
DTEND;TZID=America/Chicago:20251015T093000
DTSTAMP:20260423T164936
CREATED:20250303T201751Z
LAST-MODIFIED:20250909T164917Z
UID:10000102-1760517900-1760520600@keokukca.com
SUMMARY:Chapel Day
DESCRIPTION:
URL:https://keokukca.com/event/chapel-day-33/
END:VEVENT
BEGIN:VEVENT
DTSTART;TZID=America/Chicago:20251022T083000
DTEND;TZID=America/Chicago:20251022T090000
DTSTAMP:20260423T164936
CREATED:20250909T171953Z
LAST-MODIFIED:20251022T133227Z
UID:10000201-1761121800-1761123600@keokukca.com
SUMMARY:Chapel Day
DESCRIPTION:
URL:https://keokukca.com/event/chapel-day-82/
ATTACH;FMTTYPE=image/jpeg:https://keokukca.com/wp-content/uploads/2025/09/Chapel-Day.jpg
END:VEVENT
BEGIN:VEVENT
DTSTART;TZID=America/Chicago:20251028T140000
DTEND;TZID=America/Chicago:20251028T143000
DTSTAMP:20260423T164936
CREATED:20250723T021744Z
LAST-MODIFIED:20251028T190234Z
UID:10000166-1761660000-1761661800@keokukca.com
SUMMARY:Early Out (Mobile Food Pantry)
DESCRIPTION:
URL:https://keokukca.com/event/early-out-mobile-food-pantry/
ATTACH;FMTTYPE=image/jpeg:https://keokukca.com/wp-content/uploads/2025/07/Mobile-Early-Out2.jpg
END:VEVENT
BEGIN:VEVENT
DTSTART;TZID=America/Chicago:20251029T083000
DTEND;TZID=America/Chicago:20251029T090000
DTSTAMP:20260423T164936
CREATED:20250909T171953Z
LAST-MODIFIED:20251029T134728Z
UID:10000202-1761726600-1761728400@keokukca.com
SUMMARY:Chapel Day
DESCRIPTION:
URL:https://keokukca.com/event/chapel-day-83/
ATTACH;FMTTYPE=image/jpeg:https://keokukca.com/wp-content/uploads/2025/09/Chapel-Day.jpg
END:VEVENT
BEGIN:VEVENT
DTSTART;TZID=America/Chicago:20251031T140000
DTEND;TZID=America/Chicago:20251031T170000
DTSTAMP:20260423T164936
CREATED:20251016T140521Z
LAST-MODIFIED:20251016T140521Z
UID:10000228-1761919200-1761930000@keokukca.com
SUMMARY:Early Out
DESCRIPTION:Students will be dismissed early on Friday\, Oct. 31.
URL:https://keokukca.com/event/early-out/
ATTACH;FMTTYPE=image/jpeg:https://keokukca.com/wp-content/uploads/2025/10/early-out.jpg
END:VEVENT
END:VCALENDAR