BEGIN:VCALENDAR
VERSION:2.0
PRODID:-//Keokuk Christian Academy - ECPv6.15.17.1//NONSGML v1.0//EN
CALSCALE:GREGORIAN
METHOD:PUBLISH
X-WR-CALNAME:Keokuk Christian Academy
X-ORIGINAL-URL:https://keokukca.com
X-WR-CALDESC:Events for Keokuk Christian Academy
REFRESH-INTERVAL;VALUE=DURATION:PT1H
X-Robots-Tag:noindex
X-PUBLISHED-TTL:PT1H
BEGIN:VTIMEZONE
TZID:America/Chicago
BEGIN:DAYLIGHT
TZOFFSETFROM:-0600
TZOFFSETTO:-0500
TZNAME:CDT
DTSTART:20250309T080000
END:DAYLIGHT
BEGIN:STANDARD
TZOFFSETFROM:-0500
TZOFFSETTO:-0600
TZNAME:CST
DTSTART:20251102T070000
END:STANDARD
BEGIN:DAYLIGHT
TZOFFSETFROM:-0600
TZOFFSETTO:-0500
TZNAME:CDT
DTSTART:20260308T080000
END:DAYLIGHT
BEGIN:STANDARD
TZOFFSETFROM:-0500
TZOFFSETTO:-0600
TZNAME:CST
DTSTART:20261101T070000
END:STANDARD
BEGIN:DAYLIGHT
TZOFFSETFROM:-0600
TZOFFSETTO:-0500
TZNAME:CDT
DTSTART:20270314T080000
END:DAYLIGHT
BEGIN:STANDARD
TZOFFSETFROM:-0500
TZOFFSETTO:-0600
TZNAME:CST
DTSTART:20271107T070000
END:STANDARD
END:VTIMEZONE
BEGIN:VEVENT
DTSTART;TZID=America/Chicago:20260202T080000
DTEND;TZID=America/Chicago:20260202T153000
DTSTAMP:20260421T040118
CREATED:20260203T031208Z
LAST-MODIFIED:20260203T031416Z
UID:10000269-1770019200-1770046200@keokukca.com
SUMMARY:Pet Supply Service Project
DESCRIPTION:Students are collecting pet supplies as a service project to benefit the Keokuk Animal Shelter.
URL:https://keokukca.com/event/pet-supply-service-project/
ATTACH;FMTTYPE=image/jpeg:https://keokukca.com/wp-content/uploads/2026/02/Pet-Supplies-Project.jpg
END:VEVENT
BEGIN:VEVENT
DTSTART;TZID=America/Chicago:20260204T083000
DTEND;TZID=America/Chicago:20260204T090000
DTSTAMP:20260421T040118
CREATED:20250909T171955Z
LAST-MODIFIED:20260204T141805Z
UID:10000216-1770193800-1770195600@keokukca.com
SUMMARY:Chapel Day
DESCRIPTION:
URL:https://keokukca.com/event/chapel-day-97/
ATTACH;FMTTYPE=image/jpeg:https://keokukca.com/wp-content/uploads/2025/09/Chapel-Day.jpg
END:VEVENT
BEGIN:VEVENT
DTSTART;TZID=America/Chicago:20260211T083000
DTEND;TZID=America/Chicago:20260211T090000
DTSTAMP:20260421T040118
CREATED:20250909T171955Z
LAST-MODIFIED:20260211T144742Z
UID:10000217-1770798600-1770800400@keokukca.com
SUMMARY:Chapel Day
DESCRIPTION:
URL:https://keokukca.com/event/chapel-day-98/
ATTACH;FMTTYPE=image/jpeg:https://keokukca.com/wp-content/uploads/2025/09/Chapel-Day.jpg
END:VEVENT
BEGIN:VEVENT
DTSTART;TZID=America/Chicago:20260213T080000
DTEND;TZID=America/Chicago:20260213T120000
DTSTAMP:20260421T040118
CREATED:20260203T031636Z
LAST-MODIFIED:20260203T031636Z
UID:10000281-1770969600-1770984000@keokukca.com
SUMMARY:Pet Supply Service Project
DESCRIPTION:Students are collecting pet supplies for the Keokuk Animal Shelter. All donations should be brought to school no later than Friday\, Feb. 13.
URL:https://keokukca.com/event/pet-supply-service-project-2/
ATTACH;FMTTYPE=image/jpeg:https://keokukca.com/wp-content/uploads/2026/02/Pet-Supplies-Project.jpg
END:VEVENT
BEGIN:VEVENT
DTSTART;VALUE=DATE:20260216
DTEND;VALUE=DATE:20260217
DTSTAMP:20260421T040118
CREATED:20250825T210344Z
LAST-MODIFIED:20260216T233259Z
UID:10000190-1771200000-1771286399@keokukca.com
SUMMARY:No School: President's Day
DESCRIPTION:
URL:https://keokukca.com/event/no-school-presidents-day/
ATTACH;FMTTYPE=image/jpeg:https://keokukca.com/wp-content/uploads/2025/08/Presidents-Day.jpg
END:VEVENT
BEGIN:VEVENT
DTSTART;TZID=America/Chicago:20260218T083000
DTEND;TZID=America/Chicago:20260218T090000
DTSTAMP:20260421T040118
CREATED:20250910T140241Z
LAST-MODIFIED:20260218T144809Z
UID:10000218-1771403400-1771405200@keokukca.com
SUMMARY:Chapel Day
DESCRIPTION:
URL:https://keokukca.com/event/chapel-day-99/
ATTACH;FMTTYPE=image/jpeg:https://keokukca.com/wp-content/uploads/2025/09/Chapel-Day.jpg
END:VEVENT
BEGIN:VEVENT
DTSTART;VALUE=DATE:20260224
DTEND;VALUE=DATE:20260225
DTSTAMP:20260421T040118
CREATED:20250902T001734Z
LAST-MODIFIED:20260224T234909Z
UID:10000191-1771891200-1771977599@keokukca.com
SUMMARY:Early Dismissal (Mobile Food Pantry)
DESCRIPTION:
URL:https://keokukca.com/event/early-dismissal-mobile-food-pantry-4/
ATTACH;FMTTYPE=image/jpeg:https://keokukca.com/wp-content/uploads/2025/09/Early-Out-Mobile.jpg
END:VEVENT
BEGIN:VEVENT
DTSTART;TZID=America/Chicago:20260225T083000
DTEND;TZID=America/Chicago:20260225T090000
DTSTAMP:20260421T040118
CREATED:20250917T141753Z
LAST-MODIFIED:20260225T143232Z
UID:10000219-1772008200-1772010000@keokukca.com
SUMMARY:Chapel Day
DESCRIPTION:
URL:https://keokukca.com/event/chapel-day-100/
ATTACH;FMTTYPE=image/jpeg:https://keokukca.com/wp-content/uploads/2025/09/Chapel-Day.jpg
END:VEVENT
BEGIN:VEVENT
DTSTART;TZID=America/Chicago:20260226T080000
DTEND;TZID=America/Chicago:20260226T111500
DTSTAMP:20260421T040118
CREATED:20260203T032514Z
LAST-MODIFIED:20260203T032514Z
UID:10000282-1772092800-1772104500@keokukca.com
SUMMARY:Kindergarten Round Up
DESCRIPTION:Children who will be 5 years old before September 15\, 2026 are invited to be part of this special day to learn more about Keokuk Christian Academy and to assess readiness for kindergarten. Register now for Kindergarten Round Up by calling the school at 319-524-5752.
URL:https://keokukca.com/event/kindergarten-round-up/
ATTACH;FMTTYPE=image/jpeg:https://keokukca.com/wp-content/uploads/2026/02/Kindergarten-Round-Up.jpg
END:VEVENT
BEGIN:VEVENT
DTSTART;VALUE=DATE:20260227
DTEND;VALUE=DATE:20260228
DTSTAMP:20260421T040118
CREATED:20250903T144749Z
LAST-MODIFIED:20260227T234735Z
UID:10000192-1772150400-1772236799@keokukca.com
SUMMARY:End of 4th Six Weeks
DESCRIPTION:
URL:https://keokukca.com/event/end-of-4th-six-weeks/
END:VEVENT
END:VCALENDAR