BEGIN:VCALENDAR
VERSION:2.0
PRODID:-//Keokuk Christian Academy - ECPv6.15.17.1//NONSGML v1.0//EN
CALSCALE:GREGORIAN
METHOD:PUBLISH
X-WR-CALNAME:Keokuk Christian Academy
X-ORIGINAL-URL:https://keokukca.com
X-WR-CALDESC:Events for Keokuk Christian Academy
REFRESH-INTERVAL;VALUE=DURATION:PT1H
X-Robots-Tag:noindex
X-PUBLISHED-TTL:PT1H
BEGIN:VTIMEZONE
TZID:America/Chicago
BEGIN:DAYLIGHT
TZOFFSETFROM:-0600
TZOFFSETTO:-0500
TZNAME:CDT
DTSTART:20250309T080000
END:DAYLIGHT
BEGIN:STANDARD
TZOFFSETFROM:-0500
TZOFFSETTO:-0600
TZNAME:CST
DTSTART:20251102T070000
END:STANDARD
BEGIN:DAYLIGHT
TZOFFSETFROM:-0600
TZOFFSETTO:-0500
TZNAME:CDT
DTSTART:20260308T080000
END:DAYLIGHT
BEGIN:STANDARD
TZOFFSETFROM:-0500
TZOFFSETTO:-0600
TZNAME:CST
DTSTART:20261101T070000
END:STANDARD
BEGIN:DAYLIGHT
TZOFFSETFROM:-0600
TZOFFSETTO:-0500
TZNAME:CDT
DTSTART:20270314T080000
END:DAYLIGHT
BEGIN:STANDARD
TZOFFSETFROM:-0500
TZOFFSETTO:-0600
TZNAME:CST
DTSTART:20271107T070000
END:STANDARD
END:VTIMEZONE
BEGIN:VEVENT
DTSTART;TZID=America/Chicago:20260603T083000
DTEND;TZID=America/Chicago:20260603T090000
DTSTAMP:20260421T033628
CREATED:20251218T180342Z
LAST-MODIFIED:20260421T003318Z
UID:10000247-1780475400-1780477200@keokukca.com
SUMMARY:Chapel Day
DESCRIPTION:
URL:https://keokukca.com/event/chapel-day-114/
END:VEVENT
BEGIN:VEVENT
DTSTART;TZID=America/Chicago:20260603T084500
DTEND;TZID=America/Chicago:20260603T093000
DTSTAMP:20260421T033628
CREATED:20250326T143911Z
LAST-MODIFIED:20250723T014833Z
UID:10000138-1780476300-1780479000@keokukca.com
SUMMARY:Chapel Day
DESCRIPTION:
URL:https://keokukca.com/event/chapel-day-66/
END:VEVENT
BEGIN:VEVENT
DTSTART;TZID=America/Chicago:20260610T083000
DTEND;TZID=America/Chicago:20260610T090000
DTSTAMP:20260421T033628
CREATED:20251223T001726Z
LAST-MODIFIED:20260421T003318Z
UID:10000248-1781080200-1781082000@keokukca.com
SUMMARY:Chapel Day
DESCRIPTION:
URL:https://keokukca.com/event/chapel-day-115/
END:VEVENT
BEGIN:VEVENT
DTSTART;TZID=America/Chicago:20260610T084500
DTEND;TZID=America/Chicago:20260610T093000
DTSTAMP:20260421T033628
CREATED:20250423T001842Z
LAST-MODIFIED:20250723T014833Z
UID:10000143-1781081100-1781083800@keokukca.com
SUMMARY:Chapel Day
DESCRIPTION:
URL:https://keokukca.com/event/chapel-day-67/
END:VEVENT
BEGIN:VEVENT
DTSTART;TZID=America/Chicago:20260617T083000
DTEND;TZID=America/Chicago:20260617T090000
DTSTAMP:20260421T033628
CREATED:20251224T001743Z
LAST-MODIFIED:20260421T003318Z
UID:10000249-1781685000-1781686800@keokukca.com
SUMMARY:Chapel Day
DESCRIPTION:
URL:https://keokukca.com/event/chapel-day-116/
END:VEVENT
BEGIN:VEVENT
DTSTART;TZID=America/Chicago:20260617T084500
DTEND;TZID=America/Chicago:20260617T093000
DTSTAMP:20260421T033628
CREATED:20250423T144840Z
LAST-MODIFIED:20260410T094352Z
UID:10000144-1781685900-1781688600@keokukca.com
SUMMARY:Chapel Day
DESCRIPTION:
URL:https://keokukca.com/event/chapel-day-68/
END:VEVENT
BEGIN:VEVENT
DTSTART;TZID=America/Chicago:20260624T083000
DTEND;TZID=America/Chicago:20260624T090000
DTSTAMP:20260421T033628
CREATED:20251224T151728Z
LAST-MODIFIED:20260421T003318Z
UID:10000250-1782289800-1782291600@keokukca.com
SUMMARY:Chapel Day
DESCRIPTION:
URL:https://keokukca.com/event/chapel-day-117/
END:VEVENT
BEGIN:VEVENT
DTSTART;TZID=America/Chicago:20260624T084500
DTEND;TZID=America/Chicago:20260624T093000
DTSTAMP:20260421T033628
CREATED:20250426T000229Z
LAST-MODIFIED:20250723T014833Z
UID:10000145-1782290700-1782293400@keokukca.com
SUMMARY:Chapel Day
DESCRIPTION:
URL:https://keokukca.com/event/chapel-day-69/
END:VEVENT
END:VCALENDAR